BEGIN:VCALENDAR
VERSION:2.0
METHOD:PUBLISH
BEGIN:VEVENT
DTSTART:20260305T150000Z
DTEND:20260308T200000Z
LOCATION:Pennington, NJ 08534
TRANSP: OPAQUE
SEQUENCE:0
UID:
DTSTAMP:20260421T162248Z
SUMMARY:NJ’s Best Sale this week! Jam-Packed Estate Sale in Pennington — Vintage, Antiques & Treasures in Every Room!
DESCRIPTION:NJ’s Best Sale this week! Jam-Packed Estate Sale in Pennington — Vintage, Antiques & Treasures in Every Room! White Pine Estate Sales & Auctions 
UID:1776810168
STREET-ADDRESS:See website
POSTAL-CODE:08534
LOCALITY:Pennington
REGION:ABBREV=NJ
COUNTRY:ABBREV=US;ABBREV=USA:United States
URL;TYPE=Event Listing:https://estatesales.org/estate-sales/nj/pennington/08534/njs-best-sale-this-week-2424036
PRIORITY:1
CLASS:PUBLIC
SEQUENCE:0
STATUS:CONFIRMED
TRANSP:OPAQUE
END:VEVENT
END:VCALENDAR
