BEGIN:VCALENDAR
VERSION:2.0
METHOD:PUBLISH
BEGIN:VEVENT
DTSTART:20260305T170000Z
DTEND:20260308T210000Z
LOCATION:Bakersfield, CA 93312
TRANSP: OPAQUE
SEQUENCE:0
UID:
DTSTAMP:20260422T084603Z
SUMMARY:Salerosa court estate
DESCRIPTION:Salerosa court estate Indianoaksestatesales 
UID:1776869163
STREET-ADDRESS:See website
POSTAL-CODE:93312
LOCALITY:Bakersfield
REGION:ABBREV=CA
COUNTRY:ABBREV=US;ABBREV=USA:United States
URL;TYPE=Event Listing:https://estatesales.org/estate-sales/ca/bakersfield/93312/salerosa-court-estate-2428335
PRIORITY:1
CLASS:PUBLIC
SEQUENCE:0
STATUS:CONFIRMED
TRANSP:OPAQUE
END:VEVENT
END:VCALENDAR
