BEGIN:VCALENDAR
VERSION:2.0
METHOD:PUBLISH
BEGIN:VEVENT
DTSTART:20260305T170000Z
DTEND:20260307T220000Z
LOCATION:Fremont, CA 94539
TRANSP: OPAQUE
SEQUENCE:0
UID:
DTSTAMP:20260420T063556Z
SUMMARY:Morning Glory Estate Sales: 3 Day Sale in Fremont - Thursday, Friday & Saturday
DESCRIPTION:Morning Glory Estate Sales: 3 Day Sale in Fremont - Thursday, Friday & Saturday Morning Glory Estate Sales 
UID:1776688556
STREET-ADDRESS:See website
POSTAL-CODE:94539
LOCALITY:Fremont
REGION:ABBREV=CA
COUNTRY:ABBREV=US;ABBREV=USA:United States
URL;TYPE=Event Listing:https://estatesales.org/estate-sales/ca/fremont/94539/morning-glory-estate-sales-3-2427820
PRIORITY:1
CLASS:PUBLIC
SEQUENCE:0
STATUS:CONFIRMED
TRANSP:OPAQUE
END:VEVENT
END:VCALENDAR
