BEGIN:VCALENDAR
VERSION:2.0
METHOD:PUBLISH
BEGIN:VEVENT
DTSTART:20260305T140000Z
DTEND:20260307T190000Z
LOCATION:Saint Augustine, FL 32080
TRANSP: OPAQUE
SEQUENCE:0
UID:
DTSTAMP:20260425T103618Z
SUMMARY:💥💥Grasons St Johns 50% OFF Day St Augustine💥💥
DESCRIPTION:💥💥Grasons St Johns 50% OFF Day St Augustine💥💥 Grasons Of St Johns & Flagler Counties 
UID:1777134978
STREET-ADDRESS:See website
POSTAL-CODE:32080
LOCALITY:Saint Augustine
REGION:ABBREV=FL
COUNTRY:ABBREV=US;ABBREV=USA:United States
URL;TYPE=Event Listing:https://estatesales.org/estate-sales/fl/saint-augustine/32080/grasons-st-johns-flagler-counties-2427442
PRIORITY:1
CLASS:PUBLIC
SEQUENCE:0
STATUS:CONFIRMED
TRANSP:OPAQUE
END:VEVENT
END:VCALENDAR
