BEGIN:VCALENDAR
VERSION:2.0
METHOD:PUBLISH
BEGIN:VEVENT
DTSTART:20260305T160000Z
DTEND:20260307T200000Z
LOCATION:Kingman, AZ 86401
TRANSP: OPAQUE
SEQUENCE:0
UID:
DTSTAMP:20260419T224050Z
SUMMARY:Our Largest Estate Sale Yet
DESCRIPTION:Our Largest Estate Sale Yet Taylor Family Store LLC 
UID:1776660050
STREET-ADDRESS:See website
POSTAL-CODE:86401
LOCALITY:Kingman
REGION:ABBREV=AZ
COUNTRY:ABBREV=US;ABBREV=USA:United States
URL;TYPE=Event Listing:https://estatesales.org/estate-sales/az/kingman/86401/our-largest-estate-sale-yet-2427774
PRIORITY:1
CLASS:PUBLIC
SEQUENCE:0
STATUS:CONFIRMED
TRANSP:OPAQUE
END:VEVENT
END:VCALENDAR
