BEGIN:VCALENDAR
VERSION:2.0
METHOD:PUBLISH
BEGIN:VEVENT
DTSTART:20260305T140000Z
DTEND:20260307T180000Z
LOCATION:Naples, FL 34114
TRANSP: OPAQUE
SEQUENCE:0
UID:
DTSTAMP:20260420T195145Z
SUMMARY:LAST DAY 50% OFF SAT! Naples Elite Estate Sale: Come for the Views, Stay for the Steals!
DESCRIPTION:LAST DAY 50% OFF SAT! Naples Elite Estate Sale: Come for the Views, Stay for the Steals! Allegro Estate Sales FL 
UID:1776736305
STREET-ADDRESS:See website
POSTAL-CODE:34114
LOCALITY:Naples
REGION:ABBREV=FL
COUNTRY:ABBREV=US;ABBREV=USA:United States
URL;TYPE=Event Listing:https://estatesales.org/estate-sales/fl/naples/34114/last-day-50-off-naples-2427367
PRIORITY:1
CLASS:PUBLIC
SEQUENCE:0
STATUS:CONFIRMED
TRANSP:OPAQUE
END:VEVENT
END:VCALENDAR
