BEGIN:VCALENDAR
VERSION:2.0
METHOD:PUBLISH
BEGIN:VEVENT
DTSTART:20260305T170000Z
DTEND:20260306T210000Z
LOCATION:By appointment only.
TRANSP: OPAQUE
SEQUENCE:0
UID:
DTSTAMP:20260425T183836Z
SUMMARY:TEXT 562-686-3637 FOR ACCESS SALE by Grasons Co Elite of South OC 2 Day Estate Sale in Tustin
DESCRIPTION:TEXT 562-686-3637 FOR ACCESS SALE by Grasons Co Elite of South OC 2 Day Estate Sale in Tustin Grasons Co of South Orange County 
UID:1777163916
STREET-ADDRESS:See website
POSTAL-CODE:92782
LOCALITY:Tustin
REGION:ABBREV=CA
COUNTRY:ABBREV=US;ABBREV=USA:United States
URL;TYPE=Event Listing:https://estatesales.org/estate-sales/ca/tustin/92782/appointment-only-sale-by-grasons-2425308
PRIORITY:1
CLASS:PUBLIC
SEQUENCE:0
STATUS:CONFIRMED
TRANSP:OPAQUE
END:VEVENT
END:VCALENDAR
