BEGIN:VCALENDAR
VERSION:2.0
METHOD:PUBLISH
BEGIN:VEVENT
DTSTART:20260305T160000Z
DTEND:20260308T230000Z
LOCATION:Visalia, CA 93292
TRANSP: OPAQUE
SEQUENCE:0
UID:
DTSTAMP:20260422T045947Z
SUMMARY:The Grand Estate Liquidation
DESCRIPTION:The Grand Estate Liquidation Golden Estate Sales 
UID:1776855587
STREET-ADDRESS:See website
POSTAL-CODE:93292
LOCALITY:Visalia
REGION:ABBREV=CA
COUNTRY:ABBREV=US;ABBREV=USA:United States
URL;TYPE=Event Listing:https://estatesales.org/estate-sales/ca/visalia/93292/the-grand-estate-liquidation-2427882
PRIORITY:1
CLASS:PUBLIC
SEQUENCE:0
STATUS:CONFIRMED
TRANSP:OPAQUE
END:VEVENT
END:VCALENDAR
