BEGIN:VCALENDAR
VERSION:2.0
METHOD:PUBLISH
BEGIN:VEVENT
DTSTART:20220305T130000Z
DTEND:20220305T190000Z
LOCATION:New Kensington, PA 15068
TRANSP: OPAQUE
SEQUENCE:0
UID:
DTSTAMP:20260419T070905Z
SUMMARY:Lower Burrell Liquidation
DESCRIPTION:Lower Burrell Liquidation Williams & Barron Estate Services LLC 
UID:1776604145
STREET-ADDRESS:See website
POSTAL-CODE:15068
LOCALITY:New Kensington
REGION:ABBREV=PA
COUNTRY:ABBREV=US;ABBREV=USA:United States
URL;TYPE=Event Listing:https://estatesales.org/estate-sales/pa/lower-burrell-/15068/lower-burrell-liquidation-2012999
PRIORITY:1
CLASS:PUBLIC
SEQUENCE:0
STATUS:CONFIRMED
TRANSP:OPAQUE
END:VEVENT
END:VCALENDAR
