BEGIN:VCALENDAR
VERSION:2.0
METHOD:PUBLISH
BEGIN:VEVENT
DTSTART:20160306T000000Z
DTEND:20160306T030000Z
LOCATION:Trinity, TX 75862
TRANSP: OPAQUE
SEQUENCE:0
UID:
DTSTAMP:20260424T121831Z
SUMMARY:Assets Sell Estate Sale Consignment Live Auction 3/5/16     
DESCRIPTION:Assets Sell Estate Sale Consignment Live Auction 3/5/16      Asset Marketing Pros, LLC 
UID:1777054711
STREET-ADDRESS:See website
POSTAL-CODE:75862
LOCALITY:Trinity
REGION:ABBREV=TX
COUNTRY:ABBREV=US;ABBREV=USA:United States
URL;TYPE=Event Listing:https://estatesales.org/estate-sales/tx/trinity/75862/assets-sell-estate-sale-consignment-774373
PRIORITY:1
CLASS:PUBLIC
SEQUENCE:0
STATUS:CONFIRMED
TRANSP:OPAQUE
END:VEVENT
END:VCALENDAR
