BEGIN:VCALENDAR
VERSION:2.0
METHOD:PUBLISH
BEGIN:VEVENT
DTSTART:20260304T190000Z
DTEND:20260309T000000Z
LOCATION:Fremont, CA 94536
TRANSP: OPAQUE
SEQUENCE:0
UID:
DTSTAMP:20260419T192104Z
SUMMARY:Niles Antiques : A real antique shop loaded with the very best antiques (100 years + and vintage goods 45 + years old)
DESCRIPTION:Niles Antiques : A real antique shop loaded with the very best antiques (100 years + and vintage goods 45 + years old) Niles Antiques 
UID:1776648064
STREET-ADDRESS:See website
POSTAL-CODE:94536
LOCALITY:Fremont
REGION:ABBREV=CA
COUNTRY:ABBREV=US;ABBREV=USA:United States
URL;TYPE=Event Listing:https://estatesales.org/estate-sales/ca/fremont/94536/niles-antiques-a-real-antique-2428031
PRIORITY:1
CLASS:PUBLIC
SEQUENCE:0
STATUS:CONFIRMED
TRANSP:OPAQUE
END:VEVENT
END:VCALENDAR
