BEGIN:VCALENDAR
VERSION:2.0
METHOD:PUBLISH
BEGIN:VEVENT
DTSTART:20260304T160000Z
DTEND:20260306T210000Z
LOCATION:Hermosa Beach, CA 90254
TRANSP: OPAQUE
SEQUENCE:0
UID:
DTSTAMP:20260425T055852Z
SUMMARY:Grasons South Bay 3-Day High End Hermosa Beach Estate Sale
DESCRIPTION:Grasons South Bay 3-Day High End Hermosa Beach Estate Sale Grasons Co South Bay Beachside 
UID:1777118332
STREET-ADDRESS:See website
POSTAL-CODE:90254
LOCALITY:Hermosa Beach
REGION:ABBREV=CA
COUNTRY:ABBREV=US;ABBREV=USA:United States
URL;TYPE=Event Listing:https://estatesales.org/estate-sales/ca/hermosa-beach/90254/grasons-south-bay-3day-high-2427689
PRIORITY:1
CLASS:PUBLIC
SEQUENCE:0
STATUS:CONFIRMED
TRANSP:OPAQUE
END:VEVENT
END:VCALENDAR
