BEGIN:VCALENDAR
VERSION:2.0
METHOD:PUBLISH
BEGIN:VEVENT
DTSTART:20230304T170000Z
DTEND:20230306T220000Z
LOCATION:Roanoke, TX 76262
TRANSP: OPAQUE
SEQUENCE:0
UID:
DTSTAMP:20260419T082713Z
SUMMARY:Blue Moon Estate Sales: Trophy Club
DESCRIPTION:Blue Moon Estate Sales: Trophy Club Blue Moon Estate Sales - (Fort Worth North) 
UID:1776608833
STREET-ADDRESS:See website
POSTAL-CODE:76262
LOCALITY:Roanoke
REGION:ABBREV=TX
COUNTRY:ABBREV=US;ABBREV=USA:United States
URL;TYPE=Event Listing:https://estatesales.org/estate-sales/tx/trophy-club/76262/blue-moon-estate-sales-trophy-2147243
PRIORITY:1
CLASS:PUBLIC
SEQUENCE:0
STATUS:CONFIRMED
TRANSP:OPAQUE
END:VEVENT
END:VCALENDAR
