BEGIN:VCALENDAR
VERSION:2.0
METHOD:PUBLISH
BEGIN:VEVENT
DTSTART:20230304T150000Z
DTEND:20230306T190000Z
LOCATION:Rutherfordton, NC 28139
TRANSP: OPAQUE
SEQUENCE:0
UID:
DTSTAMP:20260422T014700Z
SUMMARY:No sign in sheet Sunday & Monday. 50 % off everything!
DESCRIPTION:No sign in sheet Sunday & Monday. 50 % off everything! EZ Way Estate Solutions 
UID:1776844020
STREET-ADDRESS:See website
POSTAL-CODE:28139
LOCALITY:Rutherfordton
REGION:ABBREV=NC
COUNTRY:ABBREV=US;ABBREV=USA:United States
URL;TYPE=Event Listing:https://estatesales.org/estate-sales/nc/rutherfordton/28139/no-sign-in-sheet-sunday-2151481
PRIORITY:1
CLASS:PUBLIC
SEQUENCE:0
STATUS:CONFIRMED
TRANSP:OPAQUE
END:VEVENT
END:VCALENDAR
