BEGIN:VCALENDAR
VERSION:2.0
METHOD:PUBLISH
BEGIN:VEVENT
DTSTART:20230304T170000Z
DTEND:20230305T220000Z
LOCATION:Los Angeles, CA 90004
TRANSP: OPAQUE
SEQUENCE:0
UID:
DTSTAMP:20260420T012553Z
SUMMARY:Must See Sunday Deals ! Hancock Park. Celebrity Gathering Place, 5,000 sq ft of Collections, Art, Antiques and More. Must See Event!
DESCRIPTION:Must See Sunday Deals ! Hancock Park. Celebrity Gathering Place, 5,000 sq ft of Collections, Art, Antiques and More. Must See Event! Triumphant Estate Sales of Los Angeles 
UID:1776669953
STREET-ADDRESS:See website
POSTAL-CODE:90004
LOCALITY:Los Angeles
REGION:ABBREV=CA
COUNTRY:ABBREV=US;ABBREV=USA:United States
URL;TYPE=Event Listing:https://estatesales.org/estate-sales/ca/los-angeles/90004/must-see-hancock-park-celebrity-2151027
PRIORITY:1
CLASS:PUBLIC
SEQUENCE:0
STATUS:CONFIRMED
TRANSP:OPAQUE
END:VEVENT
END:VCALENDAR
