BEGIN:VCALENDAR
VERSION:2.0
METHOD:PUBLISH
BEGIN:VEVENT
DTSTART:20230304T130000Z
DTEND:20230305T190000Z
LOCATION:New Kensington, PA 15068
TRANSP: OPAQUE
SEQUENCE:0
UID:
DTSTAMP:20260419T070253Z
SUMMARY:Estate/Household Liquidation
DESCRIPTION:Estate/Household Liquidation Williams & Barron Estate Services LLC 
UID:1776603773
STREET-ADDRESS:See website
POSTAL-CODE:15068
LOCALITY:New Kensington
REGION:ABBREV=PA
COUNTRY:ABBREV=US;ABBREV=USA:United States
URL;TYPE=Event Listing:https://estatesales.org/estate-sales/pa/lower-burrell-/15068/estatehousehold-liquidation-2153157
PRIORITY:1
CLASS:PUBLIC
SEQUENCE:0
STATUS:CONFIRMED
TRANSP:OPAQUE
END:VEVENT
END:VCALENDAR
