BEGIN:VCALENDAR
VERSION:2.0
METHOD:PUBLISH
BEGIN:VEVENT
DTSTART:20220304T170000Z
DTEND:20220306T230000Z
LOCATION:Glendora, CA 91741
TRANSP: OPAQUE
SEQUENCE:0
UID:
DTSTAMP:20260420T041250Z
SUMMARY:ESTATE SALE - Large Glendora House - Craftsman/Mission Furniture, Yard Art, Refrigerator + More
DESCRIPTION:ESTATE SALE - Large Glendora House - Craftsman/Mission Furniture, Yard Art, Refrigerator + More asal 
UID:1776679970
STREET-ADDRESS:See website
POSTAL-CODE:91741
LOCALITY:Glendora
REGION:ABBREV=CA
COUNTRY:ABBREV=US;ABBREV=USA:United States
URL;TYPE=Event Listing:https://estatesales.org/estate-sales/ca/glendora/91741/estate-sale-large-glendora-house-2009867
PRIORITY:1
CLASS:PUBLIC
SEQUENCE:0
STATUS:CONFIRMED
TRANSP:OPAQUE
END:VEVENT
END:VCALENDAR
