BEGIN:VCALENDAR
VERSION:2.0
METHOD:PUBLISH
BEGIN:VEVENT
DTSTART:20180304T160000Z
DTEND:20180304T233000Z
LOCATION:Atlanta, GA 30324
TRANSP: OPAQUE
SEQUENCE:0
UID:
DTSTAMP:20260423T110311Z
SUMMARY:Spring Estates Auction
DESCRIPTION:Spring Estates Auction Ahlers & Ogletree, INC. 
UID:1776963791
STREET-ADDRESS:See website
POSTAL-CODE:30324
LOCALITY:Atlanta
REGION:ABBREV=GA
COUNTRY:ABBREV=US;ABBREV=USA:United States
URL;TYPE=Event Listing:https://estatesales.org/estate-sales/ga/atlanta/30324/spring-estates-auction-1480931
PRIORITY:1
CLASS:PUBLIC
SEQUENCE:0
STATUS:CONFIRMED
TRANSP:OPAQUE
END:VEVENT
END:VCALENDAR
