BEGIN:VCALENDAR
VERSION:2.0
METHOD:PUBLISH
BEGIN:VEVENT
DTSTART:20240303T170000Z
DTEND:20240303T213000Z
LOCATION:Naples, FL 33156
TRANSP: OPAQUE
SEQUENCE:0
UID:
DTSTAMP:20260420T080747Z
SUMMARY:Fine Art, Certified Jewelry & Rolex Auction at the Pinecrest Gardens/Hibiscus Room, On Sunday March 3rd, 2024
DESCRIPTION:Fine Art, Certified Jewelry & Rolex Auction at the Pinecrest Gardens/Hibiscus Room, On Sunday March 3rd, 2024 Gemtique Auctions 
UID:1776694067
STREET-ADDRESS:See website
POSTAL-CODE:33156
LOCALITY:Naples
REGION:ABBREV=FL
COUNTRY:ABBREV=US;ABBREV=USA:United States
URL;TYPE=Event Listing:https://estatesales.org/estate-sales/fl/pinecrest/33156/fine-art-certified-jewelry-rolex-2285175
PRIORITY:1
CLASS:PUBLIC
SEQUENCE:0
STATUS:CONFIRMED
TRANSP:OPAQUE
END:VEVENT
END:VCALENDAR
