BEGIN:VCALENDAR
VERSION:2.0
METHOD:PUBLISH
BEGIN:VEVENT
DTSTART:20230303T160000Z
DTEND:20230305T220000Z
LOCATION:Beverly, MA 01915
TRANSP: OPAQUE
SEQUENCE:0
UID:
DTSTAMP:20260419T104630Z
SUMMARY:Kaminski Auctions Estate Auction March 3,4,5
DESCRIPTION:Kaminski Auctions Estate Auction March 3,4,5 KaminskiAuctions 
UID:1776617190
STREET-ADDRESS:See website
POSTAL-CODE:01915
LOCALITY:Beverly
REGION:ABBREV=MA
COUNTRY:ABBREV=US;ABBREV=USA:United States
URL;TYPE=Event Listing:https://estatesales.org/estate-sales/ma/beverly/01915/kaminski-auctions-estate-auction-march-2149579
PRIORITY:1
CLASS:PUBLIC
SEQUENCE:0
STATUS:CONFIRMED
TRANSP:OPAQUE
END:VEVENT
END:VCALENDAR
