BEGIN:VCALENDAR
VERSION:2.0
METHOD:PUBLISH
BEGIN:VEVENT
DTSTART:20170303T150000Z
DTEND:20170305T220000Z
LOCATION:Stewartsville, NJ 08886
TRANSP: OPAQUE
SEQUENCE:0
UID:
DTSTAMP:20260420T220325Z
SUMMARY:vintage USED & ANTIQUARIAN BOOK SALE private library liquidation of a multi-author estate
DESCRIPTION:vintage USED & ANTIQUARIAN BOOK SALE private library liquidation of a multi-author estate Stewartsville Barn Sale 
UID:1776744205
STREET-ADDRESS:See website
POSTAL-CODE:08886
LOCALITY:Stewartsville
REGION:ABBREV=NJ
COUNTRY:ABBREV=US;ABBREV=USA:United States
URL;TYPE=Event Listing:https://estatesales.org/estate-sales/nj/stewartsville/08886/vintage-used-antiquarian-book-sale-1095039
PRIORITY:1
CLASS:PUBLIC
SEQUENCE:0
STATUS:CONFIRMED
TRANSP:OPAQUE
END:VEVENT
END:VCALENDAR
