BEGIN:VCALENDAR
VERSION:2.0
METHOD:PUBLISH
BEGIN:VEVENT
DTSTART:20170303T130000Z
DTEND:20170305T210000Z
LOCATION:Chesterfield, MO 63017
TRANSP: OPAQUE
SEQUENCE:0
UID:
DTSTAMP:20260419T105906Z
SUMMARY:Chesterfield, MO Estate Sale by Pennies In Your Pocket
DESCRIPTION:Chesterfield, MO Estate Sale by Pennies In Your Pocket Pennies In Your Pocket Estate Sale and Appraisal Services 
UID:1776617946
STREET-ADDRESS:See website
POSTAL-CODE:63017
LOCALITY:Chesterfield
REGION:ABBREV=MO
COUNTRY:ABBREV=US;ABBREV=USA:United States
URL;TYPE=Event Listing:https://estatesales.org/estate-sales/mo/chesterfield/63017/chesterfield-mo-estate-sale-by-1083937
PRIORITY:1
CLASS:PUBLIC
SEQUENCE:0
STATUS:CONFIRMED
TRANSP:OPAQUE
END:VEVENT
END:VCALENDAR
