BEGIN:VCALENDAR
VERSION:2.0
METHOD:PUBLISH
BEGIN:VEVENT
DTSTART:20240302T180000Z
DTEND:20240302T230000Z
LOCATION:Los Angeles, CA 90034
TRANSP: OPAQUE
SEQUENCE:0
UID:
DTSTAMP:20260419T061834Z
SUMMARY:TJDGs - Apartment Moving Out Sale in the Palms
DESCRIPTION:TJDGs - Apartment Moving Out Sale in the Palms The Junk & Disorderly Girls 
UID:1776601114
STREET-ADDRESS:See website
POSTAL-CODE:90034
LOCALITY:Los Angeles
REGION:ABBREV=CA
COUNTRY:ABBREV=US;ABBREV=USA:United States
URL;TYPE=Event Listing:https://estatesales.org/estate-sales/ca/los-angeles/90034/tjdgs-apartment-moving-out-sale-2287151
PRIORITY:1
CLASS:PUBLIC
SEQUENCE:0
STATUS:CONFIRMED
TRANSP:OPAQUE
END:VEVENT
END:VCALENDAR
