BEGIN:VCALENDAR
VERSION:2.0
METHOD:PUBLISH
BEGIN:VEVENT
DTSTART:20240302T170000Z
DTEND:20240304T000000Z
LOCATION:Los Angeles, CA 90272
TRANSP: OPAQUE
SEQUENCE:0
UID:
DTSTAMP:20260420T044048Z
SUMMARY:DISCOUNT SUNDAY AMAZING PACIFIC PALISADES ESTATE SALE, SALE, SALE!!! DONT MISS OUT
DESCRIPTION:DISCOUNT SUNDAY AMAZING PACIFIC PALISADES ESTATE SALE, SALE, SALE!!! DONT MISS OUT Hidden Treasure Estate Sales 
UID:1776681648
STREET-ADDRESS:See website
POSTAL-CODE:90272
LOCALITY:Los Angeles
REGION:ABBREV=CA
COUNTRY:ABBREV=US;ABBREV=USA:United States
URL;TYPE=Event Listing:https://estatesales.org/estate-sales/ca/los-angeles/90272/discount-sunday-amazing-pacific-palisades-2285653
PRIORITY:1
CLASS:PUBLIC
SEQUENCE:0
STATUS:CONFIRMED
TRANSP:OPAQUE
END:VEVENT
END:VCALENDAR
