BEGIN:VCALENDAR
VERSION:2.0
METHOD:PUBLISH
BEGIN:VEVENT
DTSTART:20240302T160000Z
DTEND:20240303T210000Z
LOCATION:Bakersfield, CA 93305
TRANSP: OPAQUE
SEQUENCE:0
UID:
DTSTAMP:20260422T120329Z
SUMMARY:Alta Vista Charmer 50 % off Sunday
DESCRIPTION:Alta Vista Charmer 50 % off Sunday Complete Estate Management 
UID:1776881009
STREET-ADDRESS:See website
POSTAL-CODE:93305
LOCALITY:Bakersfield
REGION:ABBREV=CA
COUNTRY:ABBREV=US;ABBREV=USA:United States
URL;TYPE=Event Listing:https://estatesales.org/estate-sales/ca/bakersfield/93305/alta-vista-charmer-2286819
PRIORITY:1
CLASS:PUBLIC
SEQUENCE:0
STATUS:CONFIRMED
TRANSP:OPAQUE
END:VEVENT
END:VCALENDAR
