BEGIN:VCALENDAR
VERSION:2.0
METHOD:PUBLISH
BEGIN:VEVENT
DTSTART:20230302T150000Z
DTEND:20230304T210000Z
LOCATION:Goodyear, AZ 85395
TRANSP: OPAQUE
SEQUENCE:0
UID:
DTSTAMP:20260419T072558Z
SUMMARY: +++ LAST DAY 50% OFF!!! 2nd Amendment Items Hey Guys Great Goods In Goodyear Estate Sale 
DESCRIPTION: +++ LAST DAY 50% OFF!!! 2nd Amendment Items Hey Guys Great Goods In Goodyear Estate Sale  Allegro Estate Sales FL 
UID:1776605158
STREET-ADDRESS:See website
POSTAL-CODE:85395
LOCALITY:Goodyear
REGION:ABBREV=AZ
COUNTRY:ABBREV=US;ABBREV=USA:United States
URL;TYPE=Event Listing:https://estatesales.org/estate-sales/az/goodyear/85395/last-day-50-off-2nd-2150933
PRIORITY:1
CLASS:PUBLIC
SEQUENCE:0
STATUS:CONFIRMED
TRANSP:OPAQUE
END:VEVENT
END:VCALENDAR
