BEGIN:VCALENDAR
VERSION:2.0
METHOD:PUBLISH
BEGIN:VEVENT
DTSTART:20130302T180000Z
DTEND:20130303T220000Z
LOCATION:Burlingame, CA 94010
TRANSP: OPAQUE
SEQUENCE:0
UID:
DTSTAMP:20260424T121810Z
SUMMARY:ELEGANT HILLSBOROUGH ESTATE SALE !!!
DESCRIPTION:ELEGANT HILLSBOROUGH ESTATE SALE !!! S&S ESTATE SALES 
UID:1777054690
STREET-ADDRESS:See website
POSTAL-CODE:94010
LOCALITY:Burlingame
REGION:ABBREV=CA
COUNTRY:ABBREV=US;ABBREV=USA:United States
URL;TYPE=Event Listing:https://estatesales.org/estate-sales/ca/burlingame/94010/elegant-hillsborough-estate-sale-247285
PRIORITY:1
CLASS:PUBLIC
SEQUENCE:0
STATUS:CONFIRMED
TRANSP:OPAQUE
END:VEVENT
END:VCALENDAR
