BEGIN:VCALENDAR
VERSION:2.0
METHOD:PUBLISH
BEGIN:VEVENT
DTSTART:20260301T160000Z
DTEND:20260301T230000Z
LOCATION:Winnetka, CA 91306
TRANSP: OPAQUE
SEQUENCE:0
UID:
DTSTAMP:20260420T194456Z
SUMMARY:TOMORROW - SUPER SUNDAY - 50-70% OFF!!! PACKED TIME CAPSULE HOME! - ANTIQUE FISHING GEAR, RECORD ALBUMS, VINTAGE TOOLS! HOME FULL OF VINTAGE FURNITURE, ART, COLLECTIBLES & MORE!
DESCRIPTION:TOMORROW - SUPER SUNDAY - 50-70% OFF!!! PACKED TIME CAPSULE HOME! - ANTIQUE FISHING GEAR, RECORD ALBUMS, VINTAGE TOOLS! HOME FULL OF VINTAGE FURNITURE, ART, COLLECTIBLES & MORE! Estate Sale Gurus 
UID:1776735896
STREET-ADDRESS:See website
POSTAL-CODE:91306
LOCALITY:Winnetka
REGION:ABBREV=CA
COUNTRY:ABBREV=US;ABBREV=USA:United States
URL;TYPE=Event Listing:https://estatesales.org/estate-sales/ca/winnetka/91306/tomorrow-super-sunday-5070-off-2426816
PRIORITY:1
CLASS:PUBLIC
SEQUENCE:0
STATUS:CONFIRMED
TRANSP:OPAQUE
END:VEVENT
END:VCALENDAR
