BEGIN:VCALENDAR
VERSION:2.0
METHOD:PUBLISH
BEGIN:VEVENT
DTSTART:20250301T160000Z
DTEND:20250301T220000Z
LOCATION:Riverside, CA 92506
TRANSP: OPAQUE
SEQUENCE:0
UID:
DTSTAMP:20260423T062125Z
SUMMARY:ONE DAY ONLY!! BLOWOUT EXTRAVAGANZA - ESTATE SALE
DESCRIPTION:ONE DAY ONLY!! BLOWOUT EXTRAVAGANZA - ESTATE SALE All Treasures Estate Sales 
UID:1776946885
STREET-ADDRESS:See website
POSTAL-CODE:92506
LOCALITY:Riverside
REGION:ABBREV=CA
COUNTRY:ABBREV=US;ABBREV=USA:United States
URL;TYPE=Event Listing:https://estatesales.org/estate-sales/ca/riverside/92506/one-day-only-blowout-extravaganza-2363961
PRIORITY:1
CLASS:PUBLIC
SEQUENCE:0
STATUS:CONFIRMED
TRANSP:OPAQUE
END:VEVENT
END:VCALENDAR
