BEGIN:VCALENDAR
VERSION:2.0
METHOD:PUBLISH
BEGIN:VEVENT
DTSTART:20190301T153000Z
DTEND:20190302T045900Z
LOCATION:Syracuse, NY 13214
TRANSP: OPAQUE
SEQUENCE:0
UID:
DTSTAMP:20260420T094354Z
SUMMARY: Currently Accepting Consignments for Next Exceptional Worldwide Estates Auction!
DESCRIPTION: Currently Accepting Consignments for Next Exceptional Worldwide Estates Auction! Auctions, Estate Sales & Real Estate by: Terri Peters & Associates   (315-447-1656)  CNY's Premier Auction & Estate Company 
UID:1776699834
STREET-ADDRESS:See website
POSTAL-CODE:13214
LOCALITY:Syracuse
REGION:ABBREV=NY
COUNTRY:ABBREV=US;ABBREV=USA:United States
URL;TYPE=Event Listing:https://estatesales.org/estate-sales/ny/syracuse/13214/currently-accepting-consignments-for-next-1600359
PRIORITY:1
CLASS:PUBLIC
SEQUENCE:0
STATUS:CONFIRMED
TRANSP:OPAQUE
END:VEVENT
END:VCALENDAR
