BEGIN:VCALENDAR
VERSION:2.0
METHOD:PUBLISH
BEGIN:VEVENT
DTSTART:20130301T160000Z
DTEND:20130302T233000Z
LOCATION:Frisco, TX 75034
TRANSP: OPAQUE
SEQUENCE:0
UID:
DTSTAMP:20260425T122445Z
SUMMARY:Furniture Frenzy In Frisco!
DESCRIPTION:Furniture Frenzy In Frisco! Blue Moon Estates - Estate Sales, Events &amp; Services 
UID:1777141485
STREET-ADDRESS:See website
POSTAL-CODE:75034
LOCALITY:Frisco
REGION:ABBREV=TX
COUNTRY:ABBREV=US;ABBREV=USA:United States
URL;TYPE=Event Listing:https://estatesales.org/estate-sales/tx/frisco/75034/furniture-frenzy-in-frisco-246791
PRIORITY:1
CLASS:PUBLIC
SEQUENCE:0
STATUS:CONFIRMED
TRANSP:OPAQUE
END:VEVENT
END:VCALENDAR
