BEGIN:VCALENDAR
VERSION:2.0
METHOD:PUBLISH
BEGIN:VEVENT
DTSTART:20260228T180000Z
DTEND:20260302T000000Z
LOCATION:Los Angeles, CA 90039
TRANSP: OPAQUE
SEQUENCE:0
UID:
DTSTAMP:20260422T103359Z
SUMMARY:*DISNEY LEGEND'S* Fun Collections! PACKED!
DESCRIPTION:*DISNEY LEGEND'S* Fun Collections! PACKED!
UID:1776875639
STREET-ADDRESS:See website
POSTAL-CODE:90039
LOCALITY:Los Angeles
REGION:ABBREV=CA
COUNTRY:ABBREV=US;ABBREV=USA:United States
URL;TYPE=Event Listing:https://estatesales.org/estate-sales/ca/los-angeles/90039/disney-legends-fun-collections-packed-2427441
PRIORITY:1
CLASS:PUBLIC
SEQUENCE:0
STATUS:CONFIRMED
TRANSP:OPAQUE
END:VEVENT
END:VCALENDAR
