BEGIN:VCALENDAR
VERSION:2.0
METHOD:PUBLISH
BEGIN:VEVENT
DTSTART:20260228T170000Z
DTEND:20260301T210000Z
LOCATION:Sacramento, CA 95818
TRANSP: OPAQUE
SEQUENCE:0
UID:
DTSTAMP:20260424T063403Z
SUMMARY:Super Great Finds at this amazing Sacramento Estate Sale
DESCRIPTION:Super Great Finds at this amazing Sacramento Estate Sale Diamond Estate Sales #1 
UID:1777034043
STREET-ADDRESS:See website
POSTAL-CODE:95818
LOCALITY:Sacramento
REGION:ABBREV=CA
COUNTRY:ABBREV=US;ABBREV=USA:United States
URL;TYPE=Event Listing:https://estatesales.org/estate-sales/ca/sacramento/95818/super-great-finds-at-this-2418781
PRIORITY:1
CLASS:PUBLIC
SEQUENCE:0
STATUS:CONFIRMED
TRANSP:OPAQUE
END:VEVENT
END:VCALENDAR
