BEGIN:VCALENDAR
VERSION:2.0
METHOD:PUBLISH
BEGIN:VEVENT
DTSTART:20260228T170000Z
DTEND:20260228T220000Z
LOCATION:Westlake Village, CA 91361
TRANSP: OPAQUE
SEQUENCE:0
UID:
DTSTAMP:20260419T120644Z
SUMMARY:High-End Audio, Greek Chess Set, Collectibles & Bernhardt furniture Estate sale
DESCRIPTION:High-End Audio, Greek Chess Set, Collectibles & Bernhardt furniture Estate sale Caring Transitions - Ventura 
UID:1776622004
STREET-ADDRESS:See website
POSTAL-CODE:91361
LOCALITY:Westlake Village
REGION:ABBREV=CA
COUNTRY:ABBREV=US;ABBREV=USA:United States
URL;TYPE=Event Listing:https://estatesales.org/estate-sales/ca/westlake-village/91361/highend-audio-greek-chess-set-2426898
PRIORITY:1
CLASS:PUBLIC
SEQUENCE:0
STATUS:CONFIRMED
TRANSP:OPAQUE
END:VEVENT
END:VCALENDAR
