BEGIN:VCALENDAR
VERSION:2.0
METHOD:PUBLISH
BEGIN:VEVENT
DTSTART:20250228T150000Z
DTEND:20250301T200000Z
LOCATION:Virginia Beach, VA 23452
TRANSP: OPAQUE
SEQUENCE:0
UID:
DTSTAMP:20260421T032602Z
SUMMARY:ESTATE SALE FRIDAY & SATURDAY FEB 28 & MARCH 1 - 804 N VILLIER COURT VIRGINIA BEACH, VA 23462
DESCRIPTION:ESTATE SALE FRIDAY & SATURDAY FEB 28 & MARCH 1 - 804 N VILLIER COURT VIRGINIA BEACH, VA 23462 Randy's Auction Gallery Ltd. 
UID:1776763562
STREET-ADDRESS:See website
POSTAL-CODE:23452
LOCALITY:Virginia Beach
REGION:ABBREV=VA
COUNTRY:ABBREV=US;ABBREV=USA:United States
URL;TYPE=Event Listing:https://estatesales.org/estate-sales/va/virginia-beach/23452/estate-sale-friday-saturday-feb-2361719
PRIORITY:1
CLASS:PUBLIC
SEQUENCE:0
STATUS:CONFIRMED
TRANSP:OPAQUE
END:VEVENT
END:VCALENDAR
