BEGIN:VCALENDAR
VERSION:2.0
METHOD:PUBLISH
BEGIN:VEVENT
DTSTART:20200228T170000Z
DTEND:20200301T220000Z
LOCATION:Leander, TX 78641
TRANSP: OPAQUE
SEQUENCE:0
UID:
DTSTAMP:20260424T121831Z
SUMMARY:Treasures Await You At Vista Ridge In Leander***SUNDAY DISCOUNT 50% OFF EVERYTHIN*** Coins and Horn Carvings not part of discount sunday
DESCRIPTION:Treasures Await You At Vista Ridge In Leander***SUNDAY DISCOUNT 50% OFF EVERYTHIN*** Coins and Horn Carvings not part of discount sunday Past 2 Present Estate Sale Service 
UID:1777054711
STREET-ADDRESS:See website
POSTAL-CODE:78641
LOCALITY:Leander
REGION:ABBREV=TX
COUNTRY:ABBREV=US;ABBREV=USA:United States
URL;TYPE=Event Listing:https://estatesales.org/estate-sales/tx/leander/78641/treasures-await-you-at-vista-1769269
PRIORITY:1
CLASS:PUBLIC
SEQUENCE:0
STATUS:CONFIRMED
TRANSP:OPAQUE
END:VEVENT
END:VCALENDAR
