BEGIN:VCALENDAR
VERSION:2.0
METHOD:PUBLISH
BEGIN:VEVENT
DTSTART:20200228T160000Z
DTEND:20200229T230000Z
LOCATION:Boise, ID 83705
TRANSP: OPAQUE
SEQUENCE:0
UID:
DTSTAMP:20260425T172904Z
SUMMARY:Fabulous Estate Sale on the Boise Bench.
DESCRIPTION:Fabulous Estate Sale on the Boise Bench. Boise Bench Lions Club 
UID:1777159744
STREET-ADDRESS:See website
POSTAL-CODE:83705
LOCALITY:Boise
REGION:ABBREV=ID
COUNTRY:ABBREV=US;ABBREV=USA:United States
URL;TYPE=Event Listing:https://estatesales.org/estate-sales/id/boise/83705/fabulous-estate-sale-on-the-1771457
PRIORITY:1
CLASS:PUBLIC
SEQUENCE:0
STATUS:CONFIRMED
TRANSP:OPAQUE
END:VEVENT
END:VCALENDAR
