BEGIN:VCALENDAR
VERSION:2.0
METHOD:PUBLISH
BEGIN:VEVENT
DTSTART:20200228T133000Z
DTEND:20200229T230000Z
LOCATION:Port Charlotte, FL 33948
TRANSP: OPAQUE
SEQUENCE:0
UID:
DTSTAMP:20260421T021441Z
SUMMARY:Loaded Port Charlotte Estate Sale & Live Auction hosted by Crimson Estate Services
DESCRIPTION:Loaded Port Charlotte Estate Sale & Live Auction hosted by Crimson Estate Services Crimson Estate Services 
UID:1776759281
STREET-ADDRESS:See website
POSTAL-CODE:33948
LOCALITY:Port Charlotte
REGION:ABBREV=FL
COUNTRY:ABBREV=US;ABBREV=USA:United States
URL;TYPE=Event Listing:https://estatesales.org/estate-sales/fl/port-charlotte/33948/loaded-port-charlotte-estate-sale-1760777
PRIORITY:1
CLASS:PUBLIC
SEQUENCE:0
STATUS:CONFIRMED
TRANSP:OPAQUE
END:VEVENT
END:VCALENDAR
