BEGIN:VCALENDAR
VERSION:2.0
METHOD:PUBLISH
BEGIN:VEVENT
DTSTART:20200228T130000Z
DTEND:20200301T200000Z
LOCATION:Belleview, FL 34420
TRANSP: OPAQUE
SEQUENCE:0
UID:
DTSTAMP:20260420T060846Z
SUMMARY:Another great time at our remote venue 
DESCRIPTION:Another great time at our remote venue  Justice League Estate Sales 
UID:1776686926
STREET-ADDRESS:See website
POSTAL-CODE:34420
LOCALITY:Belleview
REGION:ABBREV=FL
COUNTRY:ABBREV=US;ABBREV=USA:United States
URL;TYPE=Event Listing:https://estatesales.org/estate-sales/fl/belleview-/34420/another-great-time-at-our-1769825
PRIORITY:1
CLASS:PUBLIC
SEQUENCE:0
STATUS:CONFIRMED
TRANSP:OPAQUE
END:VEVENT
END:VCALENDAR
