BEGIN:VCALENDAR
VERSION:2.0
METHOD:PUBLISH
BEGIN:VEVENT
DTSTART:20200228T233000Z
DTEND:20200229T010000Z
LOCATION:Belleview, FL 34420
TRANSP: OPAQUE
SEQUENCE:0
UID:
DTSTAMP:20260420T060841Z
SUMMARY:Auction this Friday 
DESCRIPTION:Auction this Friday  Justice League Estate Sales 
UID:1776686921
STREET-ADDRESS:See website
POSTAL-CODE:34420
LOCALITY:Belleview
REGION:ABBREV=FL
COUNTRY:ABBREV=US;ABBREV=USA:United States
URL;TYPE=Event Listing:https://estatesales.org/estate-sales/fl/belleview-/34420/auction-this-friday-1770599
PRIORITY:1
CLASS:PUBLIC
SEQUENCE:0
STATUS:CONFIRMED
TRANSP:OPAQUE
END:VEVENT
END:VCALENDAR
