BEGIN:VCALENDAR
VERSION:2.0
METHOD:PUBLISH
BEGIN:VEVENT
DTSTART:20190228T150000Z
DTEND:20190301T190000Z
LOCATION:Kansas City, MO 64119
TRANSP: OPAQUE
SEQUENCE:0
UID:
DTSTAMP:20260419T082559Z
SUMMARY:Delayed to Thursday and Friday check times
DESCRIPTION:Delayed to Thursday and Friday check times Caring Transitions Kansas City 
UID:1776608759
STREET-ADDRESS:See website
POSTAL-CODE:64119
LOCALITY:Kansas City
REGION:ABBREV=MO
COUNTRY:ABBREV=US;ABBREV=USA:United States
URL;TYPE=Event Listing:https://estatesales.org/estate-sales/mo/kansas-city/64119/delayed-to-thursday-and-friday-1625359
PRIORITY:1
CLASS:PUBLIC
SEQUENCE:0
STATUS:CONFIRMED
TRANSP:OPAQUE
END:VEVENT
END:VCALENDAR
