BEGIN:VCALENDAR
VERSION:2.0
METHOD:PUBLISH
BEGIN:VEVENT
DTSTART:20150228T150000Z
DTEND:20150228T230000Z
LOCATION:Houston, TX 77092
TRANSP: OPAQUE
SEQUENCE:0
UID:
DTSTAMP:20260422T110011Z
SUMMARY:Garden Oaks Estate Sale
DESCRIPTION:Garden Oaks Estate Sale Alexander Appraisal and Estate Services 
UID:1776877211
STREET-ADDRESS:See website
POSTAL-CODE:77092
LOCALITY:Houston
REGION:ABBREV=TX
COUNTRY:ABBREV=US;ABBREV=USA:United States
URL;TYPE=Event Listing:https://estatesales.org/estate-sales/tx/houston/77092/garden-oaks-estate-sale-509519
PRIORITY:1
CLASS:PUBLIC
SEQUENCE:0
STATUS:CONFIRMED
TRANSP:OPAQUE
END:VEVENT
END:VCALENDAR
