BEGIN:VCALENDAR
VERSION:2.0
METHOD:PUBLISH
BEGIN:VEVENT
DTSTART:20260227T160000Z
DTEND:20260301T210000Z
LOCATION:Phoenix, AZ 85020
TRANSP: OPAQUE
SEQUENCE:0
UID:
DTSTAMP:20260424T125534Z
SUMMARY:Grasons 3 Day Estate Sale Phoenix
DESCRIPTION:Grasons 3 Day Estate Sale Phoenix Grasons of Gilbert, AZ 
UID:1777056934
STREET-ADDRESS:See website
POSTAL-CODE:85020
LOCALITY:Phoenix
REGION:ABBREV=AZ
COUNTRY:ABBREV=US;ABBREV=USA:United States
URL;TYPE=Event Listing:https://estatesales.org/estate-sales/az/phoenix/85020/grasons-3-day-estate-sale-2426161
PRIORITY:1
CLASS:PUBLIC
SEQUENCE:0
STATUS:CONFIRMED
TRANSP:OPAQUE
END:VEVENT
END:VCALENDAR
