BEGIN:VCALENDAR
VERSION:2.0
METHOD:PUBLISH
BEGIN:VEVENT
DTSTART:20260227T170000Z
DTEND:20260301T220000Z
LOCATION:Santa Rosa, CA 95404
TRANSP: OPAQUE
SEQUENCE:0
UID:
DTSTAMP:20260421T101234Z
SUMMARY:1885 los olivos Rd. LAST DAY GREAT STUFF LEFT
DESCRIPTION:1885 los olivos Rd. LAST DAY GREAT STUFF LEFT E.L.S. estate liquidation service by J good 
UID:1776787954
STREET-ADDRESS:See website
POSTAL-CODE:95404
LOCALITY:Santa Rosa
REGION:ABBREV=CA
COUNTRY:ABBREV=US;ABBREV=USA:United States
URL;TYPE=Event Listing:https://estatesales.org/estate-sales/ca/santa-rosa/95404/1885-los-olivos-rd-last-2425989
PRIORITY:1
CLASS:PUBLIC
SEQUENCE:0
STATUS:CONFIRMED
TRANSP:OPAQUE
END:VEVENT
END:VCALENDAR
