BEGIN:VCALENDAR
VERSION:2.0
METHOD:PUBLISH
BEGIN:VEVENT
DTSTART:20260227T150000Z
DTEND:20260228T220000Z
LOCATION:Appleton, WI 54915
TRANSP: OPAQUE
SEQUENCE:0
UID:
DTSTAMP:20260424T213713Z
SUMMARY:Appleton estate sale by the Estate Sale Squad, Friday February 27th, 9-5, Saturday February 28th, 9-4
DESCRIPTION:Appleton estate sale by the Estate Sale Squad, Friday February 27th, 9-5, Saturday February 28th, 9-4 Estate Sale Squad LLC 
UID:1777088233
STREET-ADDRESS:See website
POSTAL-CODE:54915
LOCALITY:Appleton
REGION:ABBREV=WI
COUNTRY:ABBREV=US;ABBREV=USA:United States
URL;TYPE=Event Listing:https://estatesales.org/estate-sales/wi/appleton/54915/appleton-estate-sale-by-the-2426777
PRIORITY:1
CLASS:PUBLIC
SEQUENCE:0
STATUS:CONFIRMED
TRANSP:OPAQUE
END:VEVENT
END:VCALENDAR
