BEGIN:VCALENDAR
VERSION:2.0
METHOD:PUBLISH
BEGIN:VEVENT
DTSTART:20260227T150000Z
DTEND:20260228T220000Z
LOCATION:Mc Farland, WI 53558
TRANSP: OPAQUE
SEQUENCE:0
UID:
DTSTAMP:20260424T200454Z
SUMMARY:McFarland Estate Sale Fri 2/27-Sat 2/28
DESCRIPTION:McFarland Estate Sale Fri 2/27-Sat 2/28 Barth Estate Sales & Services LLC 
UID:1777082694
STREET-ADDRESS:See website
POSTAL-CODE:53558
LOCALITY:Mc Farland
REGION:ABBREV=WI
COUNTRY:ABBREV=US;ABBREV=USA:United States
URL;TYPE=Event Listing:https://estatesales.org/estate-sales/wi/mcfarland/53558/mcfarland-estate-sale-fri-227sat-2426621
PRIORITY:1
CLASS:PUBLIC
SEQUENCE:0
STATUS:CONFIRMED
TRANSP:OPAQUE
END:VEVENT
END:VCALENDAR
