BEGIN:VCALENDAR
VERSION:2.0
METHOD:PUBLISH
BEGIN:VEVENT
DTSTART:20260227T170000Z
DTEND:20260228T220000Z
LOCATION:Clovis, CA 93612
TRANSP: OPAQUE
SEQUENCE:0
UID:
DTSTAMP:20260422T044518Z
SUMMARY:Clovis CA Estate Sale
DESCRIPTION:Clovis CA Estate Sale Edward Steer & Associates 
UID:1776854718
STREET-ADDRESS:See website
POSTAL-CODE:93612
LOCALITY:Clovis
REGION:ABBREV=CA
COUNTRY:ABBREV=US;ABBREV=USA:United States
URL;TYPE=Event Listing:https://estatesales.org/estate-sales/ca/clovis/93612/clovis-ca-estate-sale-2426751
PRIORITY:1
CLASS:PUBLIC
SEQUENCE:0
STATUS:CONFIRMED
TRANSP:OPAQUE
END:VEVENT
END:VCALENDAR
