BEGIN:VCALENDAR
VERSION:2.0
METHOD:PUBLISH
BEGIN:VEVENT
DTSTART:20260227T140000Z
DTEND:20260301T200000Z
LOCATION:Schofield, WI 54476
TRANSP: OPAQUE
SEQUENCE:0
UID:
DTSTAMP:20260419T174304Z
SUMMARY:EGGSTRAORDINARY 3-DAY ESTATE SALE OPENS TOMORROW (Feb 27th - Mar 1st) - 120 Erdman St, Schofield, WI
DESCRIPTION:EGGSTRAORDINARY 3-DAY ESTATE SALE OPENS TOMORROW (Feb 27th - Mar 1st) - 120 Erdman St, Schofield, WI
UID:1776642184
STREET-ADDRESS:See website
POSTAL-CODE:54476
LOCALITY:Schofield
REGION:ABBREV=WI
COUNTRY:ABBREV=US;ABBREV=USA:United States
URL;TYPE=Event Listing:https://estatesales.org/estate-sales/wi/schofield/54476/eggstraordinary-3day-estate-sale-opens-2427210
PRIORITY:1
CLASS:PUBLIC
SEQUENCE:0
STATUS:CONFIRMED
TRANSP:OPAQUE
END:VEVENT
END:VCALENDAR
