BEGIN:VCALENDAR
VERSION:2.0
METHOD:PUBLISH
BEGIN:VEVENT
DTSTART:20260227T130000Z
DTEND:20260228T190000Z
LOCATION:Fort Smith, AR 72908
TRANSP: OPAQUE
SEQUENCE:0
UID:
DTSTAMP:20260422T064611Z
SUMMARY:Two Estate Sale this Week. This is the Second Sale in Fort Smith in Fianna Hills
DESCRIPTION:Two Estate Sale this Week. This is the Second Sale in Fort Smith in Fianna Hills Variations Estate Sales by Karen and Tim 
UID:1776861971
STREET-ADDRESS:See website
POSTAL-CODE:72908
LOCALITY:Fort Smith
REGION:ABBREV=AR
COUNTRY:ABBREV=US;ABBREV=USA:United States
URL;TYPE=Event Listing:https://estatesales.org/estate-sales/ar/fort-smith/72908/two-estate-sale-this-week-2426589
PRIORITY:1
CLASS:PUBLIC
SEQUENCE:0
STATUS:CONFIRMED
TRANSP:OPAQUE
END:VEVENT
END:VCALENDAR
