BEGIN:VCALENDAR
VERSION:2.0
METHOD:PUBLISH
BEGIN:VEVENT
DTSTART:20250227T160000Z
DTEND:20250302T220000Z
LOCATION:Milwaukee, WI 53217
TRANSP: OPAQUE
SEQUENCE:0
UID:
DTSTAMP:20260425T162413Z
SUMMARY:Fox Point: Half Price, Most Items! Fabulous Winter Sale!
DESCRIPTION:Fox Point: Half Price, Most Items! Fabulous Winter Sale! Landmark Estate Sales 
UID:1777155853
STREET-ADDRESS:See website
POSTAL-CODE:53217
LOCALITY:Milwaukee
REGION:ABBREV=WI
COUNTRY:ABBREV=US;ABBREV=USA:United States
URL;TYPE=Event Listing:https://estatesales.org/estate-sales/wi/milwaukee/53217/fox-point-fabulous-winter-sale-2362400
PRIORITY:1
CLASS:PUBLIC
SEQUENCE:0
STATUS:CONFIRMED
TRANSP:OPAQUE
END:VEVENT
END:VCALENDAR
